BEGIN:VCALENDAR
PRODID:-//eluceo/ical//2.0/EN
VERSION:2.0
CALSCALE:GREGORIAN
BEGIN:VEVENT
UID:025a41b4ae6c7a9321f66e73662ef617
DTSTAMP:20260421T090743Z
SUMMARY:Interdisziplinäres alterspsychiatrisches Fortbildungsprogramm
URL:https://www.upk.ch/ueber-uns/veranstaltungen/details/interdisziplinaere
 s-alterspsychiatrisches-fortbildungsprogramm-4
DTSTART;TZID=+02:00:20260415T140000
DTEND;TZID=+02:00:20260415T160000
LOCATION:UPK Basel
END:VEVENT
END:VCALENDAR
