BEGIN:VCALENDAR
PRODID:-//eluceo/ical//2.0/EN
VERSION:2.0
CALSCALE:GREGORIAN
BEGIN:VEVENT
UID:5e90e8b432979efdce62102e44467613
DTSTAMP:20260424T140654Z
SUMMARY:Kinder- und Jugendpsychiatrisches Kolloquium
URL:https://www.upk.ch/ueber-uns/veranstaltungen/details/kinder-und-jugend-
 psychiatrisches-kolloquium-4
DTSTART;TZID=+02:00:20260429T104500
DTEND;TZID=+02:00:20260429T120000
LOCATION:Via Teams
END:VEVENT
END:VCALENDAR
