BEGIN:VCALENDAR
PRODID:-//eluceo/ical//2.0/EN
VERSION:2.0
CALSCALE:GREGORIAN
BEGIN:VEVENT
UID:24cedd5acae360a8c7a780daf2cb78cf
DTSTAMP:20260425T135210Z
SUMMARY:Kinder- und Jugendpsychiatrisches Kolloquium
URL:https://www.upk.ch/ueber-uns/veranstaltungen/details/kinder-und-jugend-
 psychiatrisches-kolloquium-5
DTSTART;TZID=+02:00:20260506T104500
DTEND;TZID=+02:00:20260506T120000
LOCATION:Via Teams
END:VEVENT
END:VCALENDAR
