BEGIN:VCALENDAR
PRODID:-//eluceo/ical//2.0/EN
VERSION:2.0
CALSCALE:GREGORIAN
BEGIN:VEVENT
UID:90453b26fbcdd33f18db548bb1108e77
DTSTAMP:20260421T123436Z
SUMMARY:Kinder- und Jugendpsychiatrisches Kolloquium
URL:https://www.upk.ch/ueber-uns/veranstaltungen/details/kinder-und-jugendp
 sychiatrisches-kolloquium-14
DTSTART;TZID=+02:00:20260422T104500
DTEND;TZID=+02:00:20260422T120000
LOCATION:Via Teams
END:VEVENT
END:VCALENDAR
