BEGIN:VCALENDAR
PRODID:-//eluceo/ical//2.0/EN
VERSION:2.0
CALSCALE:GREGORIAN
BEGIN:VEVENT
UID:042cf79e80058d41219bb5eed94c0269
DTSTAMP:20260420T160212Z
SUMMARY:Montagskolloquium: Psychiatrie und Psychotherapie: Soll ich mich li
 eber von einer KI behandeln lassen?
URL:https://www.upk.ch/ueber-uns/veranstaltungen/details/montagskolloquium-
 psychiatrie-und-psychotherapie-soll-ich-mich-lieber-von-einer-ki-behandeln
 -lassen
DTSTART;TZID=+02:00:20260420T170000
DTEND;TZID=+02:00:20260420T180000
LOCATION:Online
END:VEVENT
END:VCALENDAR
