BEGIN:VCALENDAR
PRODID:-//eluceo/ical//2.0/EN
VERSION:2.0
CALSCALE:GREGORIAN
BEGIN:VEVENT
UID:6f0733ebb4c9c82367ee5eb0bcd1163e
DTSTAMP:20260424T135139Z
SUMMARY:Schematherapie für Kinder und Jugendliche
URL:https://www.upk.ch/ueber-uns/veranstaltungen/details/schematherapie-fue
 r-kinder-und-jugendliche-4
DTSTART;TZID=+02:00:20260423T093000
DTEND;TZID=+02:00:20260424T170000
LOCATION:UPK Basel
END:VEVENT
END:VCALENDAR
